BEGIN:VCALENDAR
VERSION:2.0
PRODID:-//Blankeneser Bürgerverein - ECPv6.15.20//NONSGML v1.0//EN
CALSCALE:GREGORIAN
METHOD:PUBLISH
X-WR-CALNAME:Blankeneser Bürgerverein
X-ORIGINAL-URL:https://blankeneser-buergerverein.de
X-WR-CALDESC:Veranstaltungen für Blankeneser Bürgerverein
REFRESH-INTERVAL;VALUE=DURATION:PT1H
X-Robots-Tag:noindex
X-PUBLISHED-TTL:PT1H
BEGIN:VTIMEZONE
TZID:Europe/Berlin
BEGIN:DAYLIGHT
TZOFFSETFROM:+0100
TZOFFSETTO:+0200
TZNAME:CEST
DTSTART:20230326T010000
END:DAYLIGHT
BEGIN:STANDARD
TZOFFSETFROM:+0200
TZOFFSETTO:+0100
TZNAME:CET
DTSTART:20231029T010000
END:STANDARD
BEGIN:DAYLIGHT
TZOFFSETFROM:+0100
TZOFFSETTO:+0200
TZNAME:CEST
DTSTART:20240331T010000
END:DAYLIGHT
BEGIN:STANDARD
TZOFFSETFROM:+0200
TZOFFSETTO:+0100
TZNAME:CET
DTSTART:20241027T010000
END:STANDARD
BEGIN:DAYLIGHT
TZOFFSETFROM:+0100
TZOFFSETTO:+0200
TZNAME:CEST
DTSTART:20250330T010000
END:DAYLIGHT
BEGIN:STANDARD
TZOFFSETFROM:+0200
TZOFFSETTO:+0100
TZNAME:CET
DTSTART:20251026T010000
END:STANDARD
END:VTIMEZONE
BEGIN:VEVENT
DTSTART;TZID=Europe/Berlin:20240313T110000
DTEND;TZID=Europe/Berlin:20240313T130000
DTSTAMP:20260424T090418
CREATED:20231120T144047Z
LAST-MODIFIED:20240425T125041Z
UID:1557-1710327600-1710334800@blankeneser-buergerverein.de
SUMMARY:Führung durch das ehemalige Stadthaus
DESCRIPTION:Führung durch das ehemalige Stadthaus\nWir besuchen die Stadthöfe an der Stadthausbrücke/ Neuer Wall nach dessen umfangreicher Neugestaltung.\nDie heutigen „Stadthöfe“\, das ehemalige Stadthaus\, waren bis 1943 Sitz des Hamburger Polizeipräsidiums sowie die zentrale Befehlsstelle von Polizei und Gestapo.\nVon hier wurde u.a. die Verfolgung von politischen Gegnern organisiert.\nDie Geschichte des Gebäudekomplexes zur Zeit der NS-Diktatur\, deren Nutzung nach dem 2.Weltkrieg und der komplette Umbau mit Wiederherstellung der Fassaden in den vergangenen Jahren soll Inhalt unserer Führung sein. \n\nTreffpunkt: Abfahrt ca. 10.17 Uhr mit der S1 ab Blankenese oder wahlweise Treffen vor Ort: Stadthöfe\, Stadthausbrücke 6\nBeginn der Führung um 11.00 Uhr bis 13.00 Uhr\nEintritt 7\,00 € für Mitglieder\, für Gäste 12\,00 €\nEingeschlossene Leistungen: Eintritt und Führung durch die Stadthöfe\n\nVerbindliche Anmeldung bitte bis zum 8. März 2024 in der Geschäftsstelle des BBV\,\nBlankeneser Bahnhofstr. 31a (Marktplatz-Pavillon)\, jeden Dienstag und Freitag von 9.30 – 12.30 Uhr \nTEL. 040 – 86 70 32 (auch Anrufbeantworter)\nE-MAIL: bbv@blankeneser-buergerverein.de \nFoto: Kati Jurischka\, Stiftung Hamburger Gedenkstätten und Lernorte
URL:https://blankeneser-buergerverein.de/event/fuehrung-durch-das-ehemalige-stadthaus/
CATEGORIES:Veranstaltungen
ATTACH;FMTTYPE=image/jpeg:https://blankeneser-buergerverein.de/wp-content/uploads/2023/11/65_Stadthaus-20201208_KJ_141-scaled.jpg
ORGANIZER;CN="Blankeneser B%C3%BCrgerverein":MAILTO:bbv@blankeneser-buergerverein.de
END:VEVENT
END:VCALENDAR