BEGIN:VCALENDAR
VERSION:2.0
PRODID:-//Blankeneser Bürgerverein - ECPv6.15.20//NONSGML v1.0//EN
CALSCALE:GREGORIAN
METHOD:PUBLISH
X-ORIGINAL-URL:https://blankeneser-buergerverein.de
X-WR-CALDESC:Veranstaltungen für Blankeneser Bürgerverein
REFRESH-INTERVAL;VALUE=DURATION:PT1H
X-Robots-Tag:noindex
X-PUBLISHED-TTL:PT1H
BEGIN:VTIMEZONE
TZID:Europe/Berlin
BEGIN:DAYLIGHT
TZOFFSETFROM:+0100
TZOFFSETTO:+0200
TZNAME:CEST
DTSTART:20230326T010000
END:DAYLIGHT
BEGIN:STANDARD
TZOFFSETFROM:+0200
TZOFFSETTO:+0100
TZNAME:CET
DTSTART:20231029T010000
END:STANDARD
BEGIN:DAYLIGHT
TZOFFSETFROM:+0100
TZOFFSETTO:+0200
TZNAME:CEST
DTSTART:20240331T010000
END:DAYLIGHT
BEGIN:STANDARD
TZOFFSETFROM:+0200
TZOFFSETTO:+0100
TZNAME:CET
DTSTART:20241027T010000
END:STANDARD
BEGIN:DAYLIGHT
TZOFFSETFROM:+0100
TZOFFSETTO:+0200
TZNAME:CEST
DTSTART:20250330T010000
END:DAYLIGHT
BEGIN:STANDARD
TZOFFSETFROM:+0200
TZOFFSETTO:+0100
TZNAME:CET
DTSTART:20251026T010000
END:STANDARD
END:VTIMEZONE
BEGIN:VEVENT
DTSTART;TZID=Europe/Berlin:20240314T163000
DTEND;TZID=Europe/Berlin:20240314T163000
DTSTAMP:20260424T090604
CREATED:20240309T095604Z
LAST-MODIFIED:20240425T125037Z
UID:1706-1710433800-1710433800@blankeneser-buergerverein.de
SUMMARY:Naturnahes Gärtnern in Blankenese
DESCRIPTION:Naturnahes Gärtnern in Blankenese – so gelingt es!\nIn der Infoveranstaltung des Blankeneser Bürger-Vereins in Kooperation mit der Loki Schmidt Stiftung dreht sich alles um das naturnahe Gärtnern \nChristine Stecker\, Projektleitung MOIN STADTNATUR\, Loki Schmidt Stiftung \nMit nur wenigen Veränderungen kann jeder in seinem Garten\, auf dem Balkon oder der Terrasse einen Beitrag für die biologische Artenvielfalt leisten. Dies gelingt mit heimischen Wildpflanzen\, die u.a. Gartenvögel\, Schmetterlinge und Wildbienen anlocken. Wie die Umsetzung bewerkstelligt werden kann\, erfahren Sie in diesem Vortrag. Dabei wird es außerdem viel Zeit für Ihre Fragen geben. Lassen Sie Blankenese aufblühen! \nBei Interesse kann man sich im Anschluss an die Veranstaltung direkt für eine kostenfreie Beratung durch das MOIN STADTNATUR Beratungsteam anmelden. Die Bücherhalle in Blankenese stellt freundlicherweise ihre Räume zur Verfügung. Wegen der begrenzten Kapazitäten ist eine Anmeldung in der Geschäftsstelle des Blankeneser Bürger-Vereins erforderlich. \nBeginn um 16:30 Uhr\nBücherhalle Elbvororte\, Sülldorfer Kirchenweg 1B\nkostenlos \nVeranstalter: Blankeneser Bürger-Verein & Loki Schmidt Stiftung\nTEL. 040 – 86 70 32 (auch Anrufbeantworter)\nFAX 040 – 28 66 84 87\nMAIL bbv@blankeneser-buergerverein.de
URL:https://blankeneser-buergerverein.de/event/naturnahes-gaertnern-in-blankenese/
CATEGORIES:Veranstaltungen
ATTACH;FMTTYPE=image/jpeg:https://blankeneser-buergerverein.de/wp-content/uploads/2024/03/1706802817_MoinStadtNatur.jpg
END:VEVENT
END:VCALENDAR