BEGIN:VCALENDAR
VERSION:2.0
PRODID:-//Blankeneser Bürgerverein - ECPv6.15.20//NONSGML v1.0//EN
CALSCALE:GREGORIAN
METHOD:PUBLISH
X-WR-CALNAME:Blankeneser Bürgerverein
X-ORIGINAL-URL:https://blankeneser-buergerverein.de
X-WR-CALDESC:Veranstaltungen für Blankeneser Bürgerverein
REFRESH-INTERVAL;VALUE=DURATION:PT1H
X-Robots-Tag:noindex
X-PUBLISHED-TTL:PT1H
BEGIN:VTIMEZONE
TZID:Europe/Berlin
BEGIN:DAYLIGHT
TZOFFSETFROM:+0100
TZOFFSETTO:+0200
TZNAME:CEST
DTSTART:20230326T010000
END:DAYLIGHT
BEGIN:STANDARD
TZOFFSETFROM:+0200
TZOFFSETTO:+0100
TZNAME:CET
DTSTART:20231029T010000
END:STANDARD
BEGIN:DAYLIGHT
TZOFFSETFROM:+0100
TZOFFSETTO:+0200
TZNAME:CEST
DTSTART:20240331T010000
END:DAYLIGHT
BEGIN:STANDARD
TZOFFSETFROM:+0200
TZOFFSETTO:+0100
TZNAME:CET
DTSTART:20241027T010000
END:STANDARD
BEGIN:DAYLIGHT
TZOFFSETFROM:+0100
TZOFFSETTO:+0200
TZNAME:CEST
DTSTART:20250330T010000
END:DAYLIGHT
BEGIN:STANDARD
TZOFFSETFROM:+0200
TZOFFSETTO:+0100
TZNAME:CET
DTSTART:20251026T010000
END:STANDARD
END:VTIMEZONE
BEGIN:VEVENT
DTSTART;TZID=Europe/Berlin:20240503T083000
DTEND;TZID=Europe/Berlin:20240503T190000
DTSTAMP:20260424T042118
CREATED:20240128T091821Z
LAST-MODIFIED:20240425T125032Z
UID:1633-1714725000-1714762800@blankeneser-buergerverein.de
SUMMARY:Holsteinische Schweiz
DESCRIPTION:Holsteinische Schweiz\n5-Seen-Fahrt und Schloss Eutin\nGenießen Sie während der 5-Seen-Fahrt die stille Schönheit dieser wald- und hügelreichen Wasserlandschaft! Etwa 12 km lang ist der geschlungene Wasserweg zwischen Plön und Malente. Direkt am Dieksee kehren wir zu einem gemeinsamen Mittagessen ein. Mit dem Bus geht es dann weiter nach Eutin. Hier besuchen wir die direkt am Großen Eutiner See gelegene Schlossanlage. Während der Führung erfahren wir viel über die 850jährige wechselvolle Geschichte. Danach bleibt noch Zeit für einen Bummel durch Eutin oder den Besuch eines Cafés\, bevor es gegen 17.00 Uhr zurück nach Blankenese geht. \nBeginn um 08:30 Uhr\nTreffpunkt: Vorplatz S-Bahnhof Blankenese\nEintritt 72\,00 € für Mitglieder\, für Gäste 77\,00 € \nEingeschlossene Leistungen:\nFahrt im modernen Reisebus\, 5-Seen-Fahrt ab Plön\, Mittagessen am Dieksee (Wahlmenü)\, Fahrt nach Eutin\, Eintritt und Führung im Schloss Eutin\, Ankunft in Blankenese gegen 19.00 Uhr\nVerbindliche Anmeldung bitte bis zum 5. April 2024 in der Geschäftsstelle des BBV\,\nBlankeneser Bahnhofstr. 31a (Marktplatz-Pavillon)\, jeden Dienstag und Freitag von 9.30 – 12.30 Uhr\,\nTelefon 040 – 86 70 32 oder per E-Mail: bbv@blankeneser-buergerverein.de\nTEL. 040 – 86 70 32 (auch Anrufbeantworter)\nFAX 040 – 28 66 84 87\nMAIL bbv@blankeneser-buergerverein.de
URL:https://blankeneser-buergerverein.de/event/holsteinische-schweiz/
CATEGORIES:Veranstaltungen
ATTACH;FMTTYPE=image/png:https://blankeneser-buergerverein.de/wp-content/uploads/2024/01/hs.png
END:VEVENT
BEGIN:VEVENT
DTSTART;TZID=Europe/Berlin:20240512T160000
DTEND;TZID=Europe/Berlin:20240512T190000
DTSTAMP:20260424T042118
CREATED:20240401T174729Z
LAST-MODIFIED:20240425T125027Z
UID:1715-1715529600-1715540400@blankeneser-buergerverein.de
SUMMARY:Hafengeburtstag mit den Blankeneser Bürgerverein
DESCRIPTION:Hafengeburtstag mit den Blankeneser Bürgerverein\nSO FEIERN WIR IN BLANKENESE:\nAm Sonntag\, den 12. Mai 2024 begleiten wir mit der „Viktoria“ die Auslaufparade. \nVon 16 bis 19 Uhr werden wir mit der „Viktoria“ die Auslaufparade begleiten. Abfahrt von und Rückkehr nach Blankenese\, Anleger Op’n Bulln. Ab 15.45 Uhr können wir an Bord gehen. Getränke\, Würstchen und anderes gibt es natürlich auch zu kaufen\, damit keiner hungern oder dursten muss. \nDie Karten für die 3-stündige Fahrt kosten:\n30\,- Euro für Mitglieder des BBV | 40\,- Euro für Gäste\n15\,- Euro für Kinder bis 16 Jahre.\nDie Karten sind erhältlich in der Geschäftsstelle des BBV \nBlankeneser Bahnhofstr. 31a (Marktplatz-Pavillon)\, jeden Dienstag und Freitag von 9.30 – 12.30 Uhr\,\nTelefon 040 – 86 70 32 oder per E-Mail: bbv@blankeneser-buergerverein.de.\nTEL. 040 – 86 70 32 (auch Anrufbeantworter)\nFAX 040 – 28 66 84 87\nMAIL bbv@blankeneser-buergerverein.de
URL:https://blankeneser-buergerverein.de/event/hafengeburtstag-mit-den-blankeneser-buergerverein/
CATEGORIES:Veranstaltungen
ATTACH;FMTTYPE=image/png:https://blankeneser-buergerverein.de/wp-content/uploads/2024/04/Auslaufparade.png
END:VEVENT
BEGIN:VEVENT
DTSTART;VALUE=DATE:20240527
DTEND;VALUE=DATE:20240602
DTSTAMP:20260424T042118
CREATED:20231014T051015Z
LAST-MODIFIED:20240425T125022Z
UID:1094-1716768000-1717286399@blankeneser-buergerverein.de
SUMMARY:Danzig intensiv
DESCRIPTION:Danzig intensiv\nBBV – Reise vom 27. Mai bis 1. Juni 2024\nMontag\, 27. Mai 2024 – Anreise\nFreuen Sie sich auf eine Fahrt nach Danzig! Nach einem frühzeitigen Start um 6.30 Uhr am Vorplatz des S-Bahnhofs Blankenese geht es durch Mecklenburg-Vorpommern\, wo wir eine Frühstückspause einlegen\, weiter in Richtung Osten und über die polnische Grenze nach Danzig\, wo wir im Novotel Gdansk Centrum empfangen werden. Nach dem Zimmerbezug lassen wir den Anreisetag bei einem gemeinsamen Abendessen ausklingen. \nWährend unseres Aufenthalts sind folgende Ausflüge vorgesehen:\nDer genaue Ablauf der Reise wird vor Ort entschieden\, abhängig vom Wetter und kurzfristig eingeplanten zusätzlichen Aktivitäten. Lassen Sie sich überraschen! \nDanzig – Stadt\nEs ist der berühmten Handwerkskunst polnischer Restaurateure zu verdanken\, dass Danzigs eindrucksvolles Altstadtpanorama heute wieder in alter Pracht erstrahlt und den Besuchern die große Geschichte lebendig vor Augen führt. Allerdings ist die Stadt keineswegs nur ein kulturhistorisches Denkmal\, sondern auch eine lebendige Stadt mit junger Kultur. Es ist eine geführte Stadtbesichtigung geplant. Mit dem Bus und zu Fuß werden wir die Stadt erkunden. \nOliwa – Sopot – Gdynia\nWir besuchen in Begleitung einer Reiseleitung die einst mondänsten Seebäder und Kurorte des Deutschen Reiches und bestaunen die längste Seebrücke Europas. Fahrt in Polens größte Hafenstadt Gdynia. Hafen- und Werftkräne sind wichtige Elemente der Stadtlandschaft. Charakteristisch für Gdynia ist\, dass sich viele Gebäude auf den maritimen Stil beziehen\, sie haben z.B. die Form eines Schiffsdecks. Auch Museumsschiffe sind im Hafen zu entdecken\, die die große Seefahrertradition der Stadt vermitteln. \nKaschubien\nDas Gebiet der Kaschuben\, das sich westlich von Danzig erstreckt\, ist sehr dünn besiedelt. Kleine Alleen mit wenig Verkehr führen vorbei an alten Gehöften und durch gepflegte Dörfer. Hin und wieder tauchen größere und kleinere Seen mit sehr klarem Wasser inmitten der Wälder auf. Die kaschubischen Traditionen und Volkskunst werden sehr gepflegt. Dies kommt vor allem in den alten Trachten\, der eigenen Sprache\, dem hochwertigen Kunsthandwerk und der Musik zum Ausdruck. Berühmt sind Töpferarbeiten und Stickereien im charakteristischen Blau mit Blütenmustern. Unser Ausflug schließt ein Essen und eine musikalische Darbietung ein. \nMarienburg und Oberlandkanal\nDie im 13. Jahrhundert erbaute Marienburg\, die alte Residenz der Kreuzritter und die größte gotische Festungsanlage Europas. ist heute UNESCO-Weltkulturerbe. Wenn man über die Zugbrücke die Burg betritt\, ist es\, als würde man einen Spaziergang in das Mittelalter machen.\nSchifffahrt auf dem Oberlandkanal. Der Wasser- und Schienenweg führt durch ein wirkliches Naturparadies mit vielen Biotopen\, Wiesen und Feldern\, an denen Schwäne\, Enten\, Kormorane\nund viele andere Tierarten beheimatet sind. Das Schiff wird über sogenannte Rollberge über Land gezogen. Die Konstruktion des Werkes ist eine technische Meisterleistung! \nSamstag\, 1 Juni 2024 – Rückreise nach Blankenese \nÄnderungen im Programmablauf vorbehalten. \n\nBeginn um 06:30 Uhr \nTreffpunkt: Vorplatz S-Bahnhof Blankenese\nsiehe unten \n\nGültiger Personalausweis erforderlich \nUnser Hotel:\nDas 3-Sterne Novotel Gdansk Centrum empfängt uns im Herzen der Altstadt. Viele Sehenswürdigkeiten sind wenige Gehminuten entfernt. Die Zimmer sind geräumig und ausgestattet mit Bad oder Dusche/WC\, Telefon\, Fernseher\, Minibar\, Safe und Schreibtisch. Zu den weiteren Einrichtungen gehören Lift\, Restaurant\, Bar und Fitnessraum. Im Außenbereich gibt es einen Garten und eine Terrasse. \nIm Reisepreis enthalten:\n* Fahrt im erstklassigen Fernreisebus\n* Frühstück auf der Anreise\n* 5 x Übernachtung\n* 5 x Frühstück\n* 5 x Abendessen\n* 1 x Essen in Kaschubien mit musikalischer Unterhaltung\n* Danzig Stadtführung mit örtlicher Vagabund Reiseleitung\n* 1 x Oliwa-Sopot-Gdynia mit örtlicher Vagabund Reiseleitung\n* Kaschubien mit örtlicher Vagabund Reiseleitung\n* Eintritt und Führung Marienburg\n* Schifffahrt Oberlandkanal \nPreis pro Person im Doppelzimmer EUR 759\,-\nPreis pro Person im Einzelzimmer EUR 948\,-\nTeilnehmerzahl min./max. 30/36 Personen \nVerbindliche Anmeldung bitte bis zum 1. März 2024 in der Geschäftsstelle des BBV\, Blankeneser Bahnhofstr. 31a (Marktplatz-Pavillon)\, jeden Dienstag und Freitag von 9.30 – 12.30 Uhr\,\nTelefon 040 – 86 70 32 oder per E-Mail: bbv@blankeneser-buergerverein.de \nZahlung:\nIhre Rechnung erhalten Sie direkt von Neubauer Touristik \n\n\n\n\n\nTEL.\n040 – 86 70 32 (auch Anrufbeantworter)\n\n\nMAIL\nbbv@blankeneser-buergerverein.de\n\n\n\nFoto: polen.travel
URL:https://blankeneser-buergerverein.de/event/danzig-intensiv/
CATEGORIES:Veranstaltungen
ATTACH;FMTTYPE=image/jpeg:https://blankeneser-buergerverein.de/wp-content/uploads/2023/10/Danzigreise.jpg
ORGANIZER;CN="Blankeneser B%C3%BCrgerverein":MAILTO:bbv@blankeneser-buergerverein.de
END:VEVENT
END:VCALENDAR