BEGIN:VCALENDAR
VERSION:2.0
PRODID:-//Blankeneser Bürgerverein - ECPv6.15.20//NONSGML v1.0//EN
CALSCALE:GREGORIAN
METHOD:PUBLISH
X-WR-CALNAME:Blankeneser Bürgerverein
X-ORIGINAL-URL:https://blankeneser-buergerverein.de
X-WR-CALDESC:Veranstaltungen für Blankeneser Bürgerverein
REFRESH-INTERVAL;VALUE=DURATION:PT1H
X-Robots-Tag:noindex
X-PUBLISHED-TTL:PT1H
BEGIN:VTIMEZONE
TZID:Europe/Berlin
BEGIN:DAYLIGHT
TZOFFSETFROM:+0100
TZOFFSETTO:+0200
TZNAME:CEST
DTSTART:20240331T010000
END:DAYLIGHT
BEGIN:STANDARD
TZOFFSETFROM:+0200
TZOFFSETTO:+0100
TZNAME:CET
DTSTART:20241027T010000
END:STANDARD
BEGIN:DAYLIGHT
TZOFFSETFROM:+0100
TZOFFSETTO:+0200
TZNAME:CEST
DTSTART:20250330T010000
END:DAYLIGHT
BEGIN:STANDARD
TZOFFSETFROM:+0200
TZOFFSETTO:+0100
TZNAME:CET
DTSTART:20251026T010000
END:STANDARD
BEGIN:DAYLIGHT
TZOFFSETFROM:+0100
TZOFFSETTO:+0200
TZNAME:CEST
DTSTART:20260329T010000
END:DAYLIGHT
BEGIN:STANDARD
TZOFFSETFROM:+0200
TZOFFSETTO:+0100
TZNAME:CET
DTSTART:20261025T010000
END:STANDARD
END:VTIMEZONE
BEGIN:VEVENT
DTSTART;TZID=Europe/Berlin:20250327T134500
DTEND;TZID=Europe/Berlin:20250327T170000
DTSTAMP:20260423T155104
CREATED:20241116T061030Z
LAST-MODIFIED:20241116T061030Z
UID:1979-1743083100-1743094800@blankeneser-buergerverein.de
SUMMARY:Ein Besuch im Glasmuseum
DESCRIPTION:Glasmuseum\nModerne Glaskunst neu erleben\n  \nDas Achilles-Stiftung Glasmuseum bietet\, seit seiner Eröffnung im Oktober 2022\, der zeitgenössischen Glaskunst eine neue Heimat im Norden Deutschlands.\nIm spektakulären architektonischen Ambiente des Q21\, dem denkmalgeschützt umgebauten ehemaligen Krankenhaus Barmbek\, finden Sie das neu geschaffene Museum mit mehr als 400 zeitgenössischen Glasskulpturen\, Europas größte Dauerausstellung für Studioglaskunst. Die vier Meter hohen\, lichtdurchfluteten Räumlichkeiten bieten den atemberaubenden Werken einen würdigen Rahmen. \nAm Donnerstag\, den 27. März 2025\nTreffpunkt: ca.13:45 Uhr im Eingangsbereich des Glasmuseums in Barmbek (Fuhlsbütteler Str. 415a) Beginn der Führung um 14.00 Uhr durch den Museumsleiter Martin Fuchsberger.\nDas Museum ist mit dem ÖPNV wie folgt zu erreichen: Von Blankenese mit der S1 bis Barmbek\n(z.B. Abfahrt 12:47 Uhr) und weiter mit dem Bus 172 (13:33 Uhr) zur Haltestelle AK Barmbek\,\nFußweg ca. 2 Minuten.\nKostenbeitrag: EUR 15\,- für Mitglieder\, EUR 20\,- für Gäste \nEingeschlossene Leistungen: Eintritt ins Glasmuseum und Führung durch die Ausstellung \nVerbindliche Anmeldung bitte bis zum 14. März 2025 in der Geschäftsstelle des BBV\,\nBlankeneser Bahnhofstr. 31a (Marktplatz-Pavillon)\, jeden Dienstag und Freitag von 9.30 – 12.30 Uhr\,\nTelefon 040 – 86 70 32 oder per E-Mail: bbv@blankeneser-buergerverein.de.
URL:https://blankeneser-buergerverein.de/event/ein-besuch-im-glasmuseum/
CATEGORIES:Veranstaltungen
ATTACH;FMTTYPE=image/jpeg:https://blankeneser-buergerverein.de/wp-content/uploads/2024/11/Grosse-Halle.jpg
END:VEVENT
END:VCALENDAR